BEGIN:VCALENDAR
PRODID:-//PINUTS.DE//UNI-BAYREUTH EVENTCALENDAR Version 2018.1//EN
VERSION:2.0
CALSCALE:GREGORIAN
METHOD:PUBLISH
X-WR-CALNAME:WiN-wissenschaftlicher-Nachwuchs
X-WR-TIMEZONE:Europe/Berlin
BEGIN:VTIMEZONE
TZID:Europe/Berlin
X-LIC-LOCATION:Europe/Berlin
BEGIN:DAYLIGHT
TZOFFSETFROM:+0100
TZOFFSETTO:+0200
TZNAME:CEST
DTSTART:19700329T020000
RRULE:FREQ=YEARLY;BYMONTH=3;BYDAY=-1SU
END:DAYLIGHT
BEGIN:STANDARD
TZOFFSETFROM:+0200
TZOFFSETTO:+0100
TZNAME:CET
DTSTART:19701025T030000
RRULE:FREQ=YEARLY;BYMONTH=10;BYDAY=-1SU
END:STANDARD
END:VTIMEZONE
BEGIN:VEVENT
DTSTAMP:20260421T100034Z
DTSTART:20241024T070000Z
DTEND:20241031T150000Z
UID:396193269829127770_eventcalender@uni-bayreuth.de
ORGANIZER;CN=Team Veranstalungsmanagement:mailto:info@uni-bayreuth.de
STATUS:CONFIRMED
CATEGORIES:WiN-wissenschaftlicher-Nachwuchs
SUMMARY:* Academic Posters All Inclusive – Concept, Design and Presentation (Doctoral Candidates & Postdocs+)
DESCRIPTION:
LOCATION:Online
END:VEVENT
END:VCALENDAR